BEGIN:VCALENDAR
VERSION:2.0
PRODID:-//Sabre//Sabre VObject 4.5.8//EN
CALSCALE:GREGORIAN
BEGIN:VEVENT
UID:sabre-vobject-4e0f7795-5caf-402b-a41f-e554ce56238b
DTSTAMP:20260422T180013Z
SUMMARY:Vortragsreihe "Paulus" - Paulus und die Korinther
DESCRIPTION:https://lindau.keb-oberallgaeu.de/ueber-uns/veranstaltungen/vor
 tragsreihe-paulus-paulus-und-die-korinther_id327685
DTSTART;TZID=Europe/Berlin:20260505T200000
LOCATION:Pfarrheim\, Kirchstraße 17\, 88138 Weißensberg
END:VEVENT
END:VCALENDAR
