BEGIN:VCALENDAR
VERSION:2.0
PRODID:-//Sabre//Sabre VObject 4.5.8//EN
CALSCALE:GREGORIAN
BEGIN:VEVENT
UID:sabre-vobject-c8afe912-33fa-4fa2-b0e3-6a56ea5a11be
DTSTAMP:20260422T162142Z
SUMMARY:Vortragsreihe "Paulus" - Paulus und die Thessalonicher
DESCRIPTION:https://lindau.keb-oberallgaeu.de/ueber-uns/veranstaltungen/vor
 tragsreihe-paulus-paulus-und-die-thessalonicher_id327684
DTSTART;TZID=Europe/Berlin:20260428T200000
LOCATION:Pfarrheim\, Kirchstraße 17\, 88138 Weißensberg
END:VEVENT
END:VCALENDAR
