BEGIN:VCALENDAR
VERSION:2.0
PRODID:-//Sabre//Sabre VObject 4.5.8//EN
CALSCALE:GREGORIAN
BEGIN:VEVENT
UID:sabre-vobject-e5729dd3-5449-4bef-af2e-88120f11a6c5
DTSTAMP:20260421T110751Z
SUMMARY:Vortragsreihe "Paulus" - Paulus und die Philipper
DESCRIPTION:https://lindau.keb-oberallgaeu.de/ueber-uns/veranstaltungen/vor
 tragsreihe-paulus-paulus-und-die-philipper_id327683
DTSTART;TZID=Europe/Berlin:20260421T200000
LOCATION:Pfarrheim\, Kirchstraße 17\, 88138 Weißensberg
END:VEVENT
END:VCALENDAR
