BEGIN:VCALENDAR
VERSION:2.0
PRODID:-//Sabre//Sabre VObject 4.5.8//EN
CALSCALE:GREGORIAN
BEGIN:VEVENT
UID:sabre-vobject-fa59f685-697f-4daa-8079-61e6c83ed67e
DTSTAMP:20260422T161853Z
SUMMARY:Spaziergang mit Köpfchen
DESCRIPTION:https://lindau.keb-oberallgaeu.de/ueber-uns/veranstaltungen/spa
 ziergang-mit-koepfchen_id327679
DTSTART;TZID=Europe/Berlin:20260516T100000
LOCATION:Stadtbücherei\, Brennterwinkel 4\, 88161 Lindenberg im Allgäu
END:VEVENT
END:VCALENDAR
