BEGIN:VCALENDAR
VERSION:2.0
PRODID:-//Sabre//Sabre VObject 4.5.8//EN
CALSCALE:GREGORIAN
BEGIN:VEVENT
UID:sabre-vobject-c43acb15-887f-48d1-b70d-d5d96029ed22
DTSTAMP:20260422T215048Z
SUMMARY:Josefs Café - Ausflug ins Lindauer Hinterland
DESCRIPTION:https://lindau.keb-oberallgaeu.de/ueber-uns/veranstaltungen/jos
 efs-cafe-ausflug-ins-lindauer-hinterland_id327678
DTSTART;TZID=Europe/Berlin:20260520T133000
LOCATION:Hofgut Schleinsee\, Schleinsee 3\, 88079 Kressbronn am Bodensee
END:VEVENT
END:VCALENDAR
