BEGIN:VCALENDAR
VERSION:2.0
PRODID:-//Sabre//Sabre VObject 4.5.8//EN
CALSCALE:GREGORIAN
BEGIN:VEVENT
UID:sabre-vobject-4dbf0a6f-1308-4566-9183-969f88135d6d
DTSTAMP:20260421T081316Z
SUMMARY:Österliche Orgelmusik zum Gedenken an Rudi Spring (1962-2025) Orga
 nist von St. Josef
DESCRIPTION:https://lindau.keb-oberallgaeu.de/ueber-uns/veranstaltungen/oes
 terliche-orgelmusik-zum-gedenken-an-rudi-spring-1962-2025-organist-von-st-
 josef_id326695
DTSTART;TZID=Europe/Berlin:20260419T170000
LOCATION:Stadtpfarrkirche St. Josef\, Münchhofstraße 4\, 88131 Lindau (Bo
 densee)
END:VEVENT
END:VCALENDAR
