BEGIN:VCALENDAR
VERSION:2.0
PRODID:-//Sabre//Sabre VObject 4.5.8//EN
CALSCALE:GREGORIAN
BEGIN:VEVENT
UID:sabre-vobject-76e64b10-a4a7-47c5-99e9-e81199095a22
DTSTAMP:20260421T081410Z
SUMMARY:Bericht über die Pastoralarbeit und das Jugendzentrum "Haus der Ta
 lente" in Lima\, Peru
DESCRIPTION:https://lindau.keb-oberallgaeu.de/ueber-uns/veranstaltungen/ber
 icht-ueber-die-pastoralarbeit-und-das-jugendzentrum-haus-der-talente-in-li
 ma-peru_id326688
DTSTART;TZID=Europe/Berlin:20260418T160000
LOCATION:Missionshaus Mellatz\, Mellatz 39\, 88145 Opfenbach
END:VEVENT
END:VCALENDAR
