BEGIN:VCALENDAR
VERSION:2.0
PRODID:-//Sabre//Sabre VObject 4.5.8//EN
CALSCALE:GREGORIAN
BEGIN:VEVENT
UID:sabre-vobject-e278fcc2-63d4-4fc8-910c-140c0363267a
DTSTAMP:20260422T230521Z
SUMMARY:Frauen-Yoga
DESCRIPTION:https://lindau.keb-oberallgaeu.de/ueber-uns/veranstaltungen/fra
 uen-yoga_id326687
DTSTART;TZID=Europe/Berlin:20260527T193000
LOCATION:Haus Sigmar\, Zeller Straße 18\, 88138 Sigmarszell
END:VEVENT
END:VCALENDAR
