BEGIN:VCALENDAR
VERSION:2.0
PRODID:-//Sabre//Sabre VObject 4.5.8//EN
CALSCALE:GREGORIAN
BEGIN:VEVENT
UID:sabre-vobject-1b9a789b-ab1d-4624-8335-b204f429f281
DTSTAMP:20260422T193357Z
SUMMARY:Frauen-Yoga
DESCRIPTION:https://lindau.keb-oberallgaeu.de/ueber-uns/veranstaltungen/fra
 uen-yoga_id326685
DTSTART;TZID=Europe/Berlin:20260513T193000
LOCATION:Haus Sigmar\, Zeller Straße 18\, 88138 Sigmarszell
END:VEVENT
END:VCALENDAR
