BEGIN:VCALENDAR
VERSION:2.0
PRODID:-//Sabre//Sabre VObject 4.5.8//EN
CALSCALE:GREGORIAN
BEGIN:VEVENT
UID:sabre-vobject-c4092fdf-760d-4d60-a904-7d92ede7d96f
DTSTAMP:20260423T020223Z
SUMMARY:Orgelmantineen 2026. Vier Epochen. Vier Begegnungen. Ein Instrument
DESCRIPTION:https://lindau.keb-oberallgaeu.de/ueber-uns/veranstaltungen/org
 elmantineen-2026-vier-epochen-vier-begegnungen-ein-instrument_id325953
DTSTART;TZID=Europe/Berlin:20260627T101500
LOCATION:Münster Lindau und Pfarrgarten\, Stiftsplatz 1\, 88131 Lindau (Bo
 densee)
END:VEVENT
END:VCALENDAR
