BEGIN:VCALENDAR
VERSION:2.0
PRODID:-//Sabre//Sabre VObject 4.5.8//EN
CALSCALE:GREGORIAN
BEGIN:VEVENT
UID:sabre-vobject-60f485c7-b1a4-40f5-9d37-801a9cfddbd9
DTSTAMP:20260422T230639Z
SUMMARY:Orgelmantineen 2026. Vier Epochen. Vier Begegnungen. Ein Instrument
DESCRIPTION:https://lindau.keb-oberallgaeu.de/ueber-uns/veranstaltungen/org
 elmantineen-2026-vier-epochen-vier-begegnungen-ein-instrument_id325952
DTSTART;TZID=Europe/Berlin:20260530T101500
LOCATION:Münster Lindau und Pfarrgarten\, Stiftsplatz 1\, 88131 Lindau (Bo
 densee)
END:VEVENT
END:VCALENDAR
