BEGIN:VCALENDAR
VERSION:2.0
PRODID:-//Sabre//Sabre VObject 4.5.8//EN
CALSCALE:GREGORIAN
BEGIN:VEVENT
UID:sabre-vobject-e45cc7c5-05c3-4bf2-a7b2-a3ba98c3caee
DTSTAMP:20260424T201901Z
SUMMARY:"Tanzen im Sturm" - mit Schwierigkeiten leichter fertig werden
DESCRIPTION:https://lindau.keb-oberallgaeu.de/ueber-uns/veranstaltungen/tan
 zen-im-sturm-mit-schwierigkeiten-leichter-fertig-werden_id323004
DTSTART;TZID=Europe/Berlin:20261110T080000
LOCATION:Haus der Familie\, Schönstatt auf’m Berg 68\, 87448 Waltenhofen
END:VEVENT
END:VCALENDAR
