BEGIN:VCALENDAR
VERSION:2.0
PRODID:-//Sabre//Sabre VObject 4.5.8//EN
CALSCALE:GREGORIAN
BEGIN:VEVENT
UID:sabre-vobject-d06323f6-f028-425b-b7fe-6b0984ea1a2f
DTSTAMP:20260425T030344Z
SUMMARY:Frieden
DESCRIPTION:https://lindau.keb-oberallgaeu.de/ueber-uns/veranstaltungen/fri
 eden_id322368
DTSTART;TZID=Europe/Berlin:20260723T190000
LOCATION:friedens räume\, Lindenhofweg 25\, 88131 Lindau
END:VEVENT
END:VCALENDAR
