BEGIN:VCALENDAR
VERSION:2.0
PRODID:-//Sabre//Sabre VObject 4.5.8//EN
CALSCALE:GREGORIAN
BEGIN:VEVENT
UID:sabre-vobject-810863f5-3339-4776-b790-beebe94192a8
DTSTAMP:20260424T234713Z
SUMMARY:Friedenskompass
DESCRIPTION:https://lindau.keb-oberallgaeu.de/ueber-uns/veranstaltungen/fri
 edenskompass_id322358
DTSTART;TZID=Europe/Berlin:20261011T150000
DTEND;TZID=Europe/Berlin:20261011T163000
LOCATION:friedens räume\, Lindenhofweg 25\, 88131 Lindau
END:VEVENT
END:VCALENDAR
