BEGIN:VCALENDAR
VERSION:2.0
PRODID:-//Sabre//Sabre VObject 4.5.8//EN
CALSCALE:GREGORIAN
BEGIN:VEVENT
UID:sabre-vobject-5acdd17c-be0a-475a-becb-bc43775931ce
DTSTAMP:20260425T030243Z
SUMMARY:Friedenskompass
DESCRIPTION:https://lindau.keb-oberallgaeu.de/ueber-uns/veranstaltungen/fri
 edenskompass_id322357
DTSTART;TZID=Europe/Berlin:20260913T150000
DTEND;TZID=Europe/Berlin:20260913T163000
LOCATION:friedens räume\, Lindenhofweg 25\, 88131 Lindau
END:VEVENT
END:VCALENDAR
