BEGIN:VCALENDAR
VERSION:2.0
PRODID:-//Sabre//Sabre VObject 4.5.8//EN
CALSCALE:GREGORIAN
BEGIN:VEVENT
UID:sabre-vobject-c69f52af-6584-4137-a6b8-d3b4cce1d988
DTSTAMP:20260425T030350Z
SUMMARY:Vielfalt im Gepäck - der Materialkoffer
DESCRIPTION:https://lindau.keb-oberallgaeu.de/ueber-uns/veranstaltungen/vie
 lfalt-im-gepaeck-der-materialkoffer_id322337
DTSTART;TZID=Europe/Berlin:20260624T180000
LOCATION:friedens räume\, Lindenhofweg 25\, 88131 Lindau
END:VEVENT
END:VCALENDAR
