BEGIN:VCALENDAR
VERSION:2.0
PRODID:-//Sabre//Sabre VObject 4.5.8//EN
CALSCALE:GREGORIAN
BEGIN:VEVENT
UID:sabre-vobject-c3b27d56-53a1-4a33-b2d1-2ceab7397eab
DTSTAMP:20260425T030525Z
SUMMARY:grenzenlos
DESCRIPTION:https://lindau.keb-oberallgaeu.de/ueber-uns/veranstaltungen/gre
 nzenlos_id322330
DTSTART;TZID=Europe/Berlin:20260515T170000
LOCATION:friedens räume\, Lindenhofweg 25\, 88131 Lindau
END:VEVENT
END:VCALENDAR
