BEGIN:VCALENDAR
VERSION:2.0
PRODID:-//Sabre//Sabre VObject 4.5.8//EN
CALSCALE:GREGORIAN
BEGIN:VEVENT
UID:sabre-vobject-ecf7db36-6fed-4853-97f4-b7c940b363eb
DTSTAMP:20260425T120912Z
SUMMARY:Verlorenes Gewerbe und verlorene Industie in Lindau-Reutin
DESCRIPTION:https://lindau.keb-oberallgaeu.de/ueber-uns/veranstaltungen/ver
 lorenes-gewerbe-und-verlorene-industie-in-lindau-reutin_id322316
DTSTART;TZID=Europe/Berlin:20260512T193000
LOCATION:Veranstaltungskeller Cavazzen\, Marktplatz 6\, 88131 Lindau
END:VEVENT
END:VCALENDAR
