BEGIN:VCALENDAR
VERSION:2.0
PRODID:-//Sabre//Sabre VObject 4.5.8//EN
CALSCALE:GREGORIAN
BEGIN:VEVENT
UID:sabre-vobject-de27cf81-16b9-47d1-9ce5-3725c1826c22
DTSTAMP:20260424T220007Z
SUMMARY:Meditativer Tanz
DESCRIPTION:https://lindau.keb-oberallgaeu.de/ueber-uns/veranstaltungen/med
 itativer-tanz_id322307
DTSTART;TZID=Europe/Berlin:20261020T190000
LOCATION:Pfarrheim\, Kirchweg 5\, 88167 Röthenbach
END:VEVENT
END:VCALENDAR
