BEGIN:VCALENDAR
VERSION:2.0
PRODID:-//Sabre//Sabre VObject 4.5.8//EN
CALSCALE:GREGORIAN
BEGIN:VEVENT
UID:sabre-vobject-ae9aee06-71f4-4faa-a919-82b3d1bf49c5
DTSTAMP:20260421T081242Z
SUMMARY:Einladung zur Nüchternheit - Online-Veranstaltung
DESCRIPTION:https://lindau.keb-oberallgaeu.de/ueber-uns/veranstaltungen/ein
 ladung-zur-nuechternheit-online-veranstaltung_id318588
DTSTART;TZID=Europe/Berlin:20260312T193000
LOCATION:Online
END:VEVENT
END:VCALENDAR
