BEGIN:VCALENDAR
VERSION:2.0
PRODID:-//Sabre//Sabre VObject 4.5.8//EN
CALSCALE:GREGORIAN
BEGIN:VEVENT
UID:sabre-vobject-93191836-c648-40ca-ad1c-d51db936ca3d
DTSTAMP:20260425T030530Z
SUMMARY:Meditativer Tanz
DESCRIPTION:https://lindau.keb-oberallgaeu.de/ueber-uns/veranstaltungen/med
 itativer-tanz_id316834
DTSTART;TZID=Europe/Berlin:20260915T190000
DTEND;TZID=Europe/Berlin:20260915T203000
LOCATION:Pfarrheim\, Kirchweg 5\, 88167 Röthenbach
END:VEVENT
END:VCALENDAR
