BEGIN:VCALENDAR
VERSION:2.0
PRODID:-//Sabre//Sabre VObject 4.5.8//EN
CALSCALE:GREGORIAN
BEGIN:VEVENT
UID:sabre-vobject-b0c7f2b5-4cbd-44c4-8559-8abe9d3eb602
DTSTAMP:20260420T104148Z
SUMMARY:Gymnastik bei orthopädischen Problemen - Gruppe 3 und Osteoporose
DESCRIPTION:https://lindau.keb-oberallgaeu.de/ueber-uns/veranstaltungen/gym
 nastik-bei-orthopaedischen-problemen-gruppe-3-und-osteoporose_id313988
DTSTART;TZID=Europe/Berlin:20260729T111500
DTEND;TZID=Europe/Berlin:20260729T121500
LOCATION:Online
END:VEVENT
END:VCALENDAR
