BEGIN:VCALENDAR
VERSION:2.0
PRODID:-//Sabre//Sabre VObject 4.5.8//EN
CALSCALE:GREGORIAN
BEGIN:VEVENT
UID:sabre-vobject-6d0d273c-08c5-46ef-9119-39eb130f8ff1
DTSTAMP:20260420T102645Z
SUMMARY:Gymnastik bei orthopädischen Problemen - Gruppe 3 und Osteoporose
DESCRIPTION:https://lindau.keb-oberallgaeu.de/ueber-uns/veranstaltungen/gym
 nastik-bei-orthopaedischen-problemen-gruppe-3-und-osteoporose_id313986
DTSTART;TZID=Europe/Berlin:20260715T111500
DTEND;TZID=Europe/Berlin:20260715T121500
LOCATION:Online
END:VEVENT
END:VCALENDAR
