BEGIN:VCALENDAR
VERSION:2.0
PRODID:-//Sabre//Sabre VObject 4.5.8//EN
CALSCALE:GREGORIAN
BEGIN:VEVENT
UID:sabre-vobject-b88a6c73-bd0b-4163-b01c-0da29c712871
DTSTAMP:20260420T103821Z
SUMMARY:Gymnastik bei orthopädischen Problemen - Gruppe 3 und Osteoporose
DESCRIPTION:https://lindau.keb-oberallgaeu.de/ueber-uns/veranstaltungen/gym
 nastik-bei-orthopaedischen-problemen-gruppe-3-und-osteoporose_id313983
DTSTART;TZID=Europe/Berlin:20260624T111500
DTEND;TZID=Europe/Berlin:20260624T121500
LOCATION:Online
END:VEVENT
END:VCALENDAR
