BEGIN:VCALENDAR
VERSION:2.0
PRODID:-//Sabre//Sabre VObject 4.5.8//EN
CALSCALE:GREGORIAN
BEGIN:VEVENT
UID:sabre-vobject-6fbd37bc-d894-4eee-8030-fa53515fced8
DTSTAMP:20260421T081107Z
SUMMARY:Getrennt\, aber nicht allein
DESCRIPTION:https://lindau.keb-oberallgaeu.de/ueber-uns/veranstaltungen/get
 rennt-aber-nicht-allein_id310254
DTSTART;TZID=Europe/Berlin:20260223T183000
LOCATION:EFL Beratungsstelle der Diözese Augsburg\, Mauerberg 6\, 86152 Au
 gsburg
END:VEVENT
END:VCALENDAR
