BEGIN:VCALENDAR
VERSION:2.0
PRODID:-//Sabre//Sabre VObject 4.5.8//EN
CALSCALE:GREGORIAN
BEGIN:VEVENT
UID:sabre-vobject-2e085afb-166c-4fd2-80ea-52bc343abb00
DTSTAMP:20260424T183712Z
SUMMARY:Gymnastik für Frauen
DESCRIPTION:https://lindau.keb-oberallgaeu.de/ueber-uns/veranstaltungen/gym
 nastik-fuer-frauen_id309366
DTSTART;TZID=Europe/Berlin:20261202T193000
DTEND;TZID=Europe/Berlin:20261202T203000
LOCATION:Laubenberghalle\, Hauptstraße 24\, 88167 Grünenbach
END:VEVENT
END:VCALENDAR
