BEGIN:VCALENDAR
VERSION:2.0
PRODID:-//Sabre//Sabre VObject 4.5.8//EN
CALSCALE:GREGORIAN
BEGIN:VEVENT
UID:sabre-vobject-f6f581b9-1625-4a50-a7b3-4032854251bc
DTSTAMP:20260424T183743Z
SUMMARY:Gymnastik für Frauen
DESCRIPTION:https://lindau.keb-oberallgaeu.de/ueber-uns/veranstaltungen/gym
 nastik-fuer-frauen_id309365
DTSTART;TZID=Europe/Berlin:20261125T193000
DTEND;TZID=Europe/Berlin:20261125T203000
LOCATION:Laubenberghalle\, Hauptstraße 24\, 88167 Grünenbach
END:VEVENT
END:VCALENDAR
