BEGIN:VCALENDAR
VERSION:2.0
PRODID:-//Sabre//Sabre VObject 4.5.8//EN
CALSCALE:GREGORIAN
BEGIN:VEVENT
UID:sabre-vobject-96c2e106-42b4-41bb-954d-1e5b180f6cff
DTSTAMP:20260424T220007Z
SUMMARY:Gymnastik für Frauen
DESCRIPTION:https://lindau.keb-oberallgaeu.de/ueber-uns/veranstaltungen/gym
 nastik-fuer-frauen_id309361
DTSTART;TZID=Europe/Berlin:20261028T193000
DTEND;TZID=Europe/Berlin:20261028T203000
LOCATION:Laubenberghalle\, Hauptstraße 24\, 88167 Grünenbach
END:VEVENT
END:VCALENDAR
