BEGIN:VCALENDAR
VERSION:2.0
PRODID:-//Sabre//Sabre VObject 4.5.8//EN
CALSCALE:GREGORIAN
BEGIN:VEVENT
UID:sabre-vobject-82398078-44a3-439f-a552-42e6d8f94469
DTSTAMP:20260424T220014Z
SUMMARY:Gymnastik für Frauen
DESCRIPTION:https://lindau.keb-oberallgaeu.de/ueber-uns/veranstaltungen/gym
 nastik-fuer-frauen_id309360
DTSTART;TZID=Europe/Berlin:20261021T193000
DTEND;TZID=Europe/Berlin:20261021T203000
LOCATION:Laubenberghalle\, Hauptstraße 24\, 88167 Grünenbach
END:VEVENT
END:VCALENDAR
