BEGIN:VCALENDAR
VERSION:2.0
PRODID:-//Sabre//Sabre VObject 4.5.8//EN
CALSCALE:GREGORIAN
BEGIN:VEVENT
UID:sabre-vobject-e6c436ba-54c0-402d-80b9-90c8f593c1b3
DTSTAMP:20260425T030243Z
SUMMARY:Gymnastik für Frauen
DESCRIPTION:https://lindau.keb-oberallgaeu.de/ueber-uns/veranstaltungen/gym
 nastik-fuer-frauen_id309356
DTSTART;TZID=Europe/Berlin:20260923T193000
DTEND;TZID=Europe/Berlin:20260923T203000
LOCATION:Laubenberghalle\, Hauptstraße 24\, 88167 Grünenbach
END:VEVENT
END:VCALENDAR
