BEGIN:VCALENDAR
VERSION:2.0
PRODID:-//Sabre//Sabre VObject 4.5.8//EN
CALSCALE:GREGORIAN
BEGIN:VEVENT
UID:sabre-vobject-2a7950a5-2445-4478-882f-1aaef6063518
DTSTAMP:20260424T183743Z
SUMMARY:"Wichtelstube" - Eltern-Kind-Gruppe
DESCRIPTION:https://lindau.keb-oberallgaeu.de/ueber-uns/veranstaltungen/wic
 htelstube-eltern-kind-gruppe_id309271
DTSTART;TZID=Europe/Berlin:20261216T090000
DTEND;TZID=Europe/Berlin:20261216T103000
LOCATION:Kindergarten Grünenbach\, Hauptstraße 24\, 88167 Grünenbach
END:VEVENT
END:VCALENDAR
