BEGIN:VCALENDAR
VERSION:2.0
PRODID:-//Sabre//Sabre VObject 4.5.8//EN
CALSCALE:GREGORIAN
BEGIN:VEVENT
UID:sabre-vobject-4607efa2-9b5b-4a4f-b347-6a329475f728
DTSTAMP:20260424T215947Z
SUMMARY:"Wichtelstube" - Eltern-Kind-Gruppe
DESCRIPTION:https://lindau.keb-oberallgaeu.de/ueber-uns/veranstaltungen/wic
 htelstube-eltern-kind-gruppe_id309265
DTSTART;TZID=Europe/Berlin:20261104T090000
DTEND;TZID=Europe/Berlin:20261104T103000
LOCATION:Kindergarten Grünenbach\, Hauptstraße 24\, 88167 Grünenbach
END:VEVENT
END:VCALENDAR
