BEGIN:VCALENDAR
VERSION:2.0
PRODID:-//Sabre//Sabre VObject 4.5.8//EN
CALSCALE:GREGORIAN
BEGIN:VEVENT
UID:sabre-vobject-50c82f37-96db-443e-812a-123ed415903f
DTSTAMP:20260424T215850Z
SUMMARY:"Wichtelstube" - Eltern-Kind-Gruppe
DESCRIPTION:https://lindau.keb-oberallgaeu.de/ueber-uns/veranstaltungen/wic
 htelstube-eltern-kind-gruppe_id309263
DTSTART;TZID=Europe/Berlin:20261021T090000
DTEND;TZID=Europe/Berlin:20261021T103000
LOCATION:Kindergarten Grünenbach\, Hauptstraße 24\, 88167 Grünenbach
END:VEVENT
END:VCALENDAR
