BEGIN:VCALENDAR
VERSION:2.0
PRODID:-//Sabre//Sabre VObject 4.5.8//EN
CALSCALE:GREGORIAN
BEGIN:VEVENT
UID:sabre-vobject-4da6d15d-71a8-4457-a5f3-ad92567f131e
DTSTAMP:20260425T030227Z
SUMMARY:"Wichtelstube" - Eltern-Kind-Gruppe
DESCRIPTION:https://lindau.keb-oberallgaeu.de/ueber-uns/veranstaltungen/wic
 htelstube-eltern-kind-gruppe_id309258
DTSTART;TZID=Europe/Berlin:20260916T090000
DTEND;TZID=Europe/Berlin:20260916T103000
LOCATION:Kindergarten Grünenbach\, Hauptstraße 24\, 88167 Grünenbach
END:VEVENT
END:VCALENDAR
