BEGIN:VCALENDAR
VERSION:2.0
PRODID:-//Sabre//Sabre VObject 4.5.8//EN
CALSCALE:GREGORIAN
BEGIN:VEVENT
UID:sabre-vobject-99d6f816-e2b0-4136-b0fd-7ce841e12fea
DTSTAMP:20260426T030003Z
SUMMARY:"Wichtelstube" - Eltern-Kind-Gruppe
DESCRIPTION:https://lindau.keb-oberallgaeu.de/ueber-uns/veranstaltungen/wic
 htelstube-eltern-kind-gruppe_id309246
DTSTART;TZID=Europe/Berlin:20260429T090000
DTEND;TZID=Europe/Berlin:20260429T103000
LOCATION:Kindergarten Grünenbach\, Hauptstraße 24\, 88167 Grünenbach
END:VEVENT
END:VCALENDAR
