BEGIN:VCALENDAR
VERSION:2.0
PRODID:-//Sabre//Sabre VObject 4.5.8//EN
CALSCALE:GREGORIAN
BEGIN:VEVENT
UID:sabre-vobject-25547eab-d783-410c-8a34-e00324639aeb
DTSTAMP:20260422T130306Z
SUMMARY:Wenn Flügel dich berühren
DESCRIPTION:https://lindau.keb-oberallgaeu.de/ueber-uns/veranstaltungen/wen
 n-fluegel-dich-beruehren_id309018
DTSTART;TZID=Europe/Berlin:20261216T193000
LOCATION:Pfarrheim\, Austraße 2\, 88161 Lindenberg im Allgäu
END:VEVENT
END:VCALENDAR
