BEGIN:VCALENDAR
VERSION:2.0
PRODID:-//Sabre//Sabre VObject 4.5.8//EN
CALSCALE:GREGORIAN
BEGIN:VEVENT
UID:sabre-vobject-bf3fc392-c1f4-4b89-829f-36c6550697b6
DTSTAMP:20260422T130510Z
SUMMARY:Kraftquelle - Stille
DESCRIPTION:https://lindau.keb-oberallgaeu.de/ueber-uns/veranstaltungen/kra
 ftquelle-stille_id309017
DTSTART;TZID=Europe/Berlin:20261118T193000
LOCATION:Pfarrheim\, Austraße 2\, 88161 Lindenberg im Allgäu
END:VEVENT
END:VCALENDAR
