BEGIN:VCALENDAR
VERSION:2.0
PRODID:-//Sabre//Sabre VObject 4.5.8//EN
CALSCALE:GREGORIAN
BEGIN:VEVENT
UID:sabre-vobject-ac2984b9-884b-46fd-a0f4-1a8d481095f7
DTSTAMP:20260422T131228Z
SUMMARY:Pilze suchen - erkennen und bestimmen
DESCRIPTION:https://lindau.keb-oberallgaeu.de/ueber-uns/veranstaltungen/pil
 ze-suchen-erkennen-und-bestimmen_id309016
DTSTART;TZID=Europe/Berlin:20260916T000000
LOCATION:Pfarrheim\, Austraße 2\, 88161 Lindenberg im Allgäu
END:VEVENT
END:VCALENDAR
