BEGIN:VCALENDAR
VERSION:2.0
PRODID:-//Sabre//Sabre VObject 4.5.8//EN
CALSCALE:GREGORIAN
BEGIN:VEVENT
UID:sabre-vobject-3058503b-a5d3-4724-9896-c7226f94ac20
DTSTAMP:20260422T130331Z
SUMMARY:Sagen und Geschichten aus aller Welt
DESCRIPTION:https://lindau.keb-oberallgaeu.de/ueber-uns/veranstaltungen/sag
 en-und-geschichten-aus-aller-welt_id309015
DTSTART;TZID=Europe/Berlin:20260715T000000
LOCATION:Pfarrheim\, Austraße 2\, 88161 Lindenberg im Allgäu
END:VEVENT
END:VCALENDAR
