BEGIN:VCALENDAR
VERSION:2.0
PRODID:-//Sabre//Sabre VObject 4.5.8//EN
CALSCALE:GREGORIAN
BEGIN:VEVENT
UID:sabre-vobject-e22544bb-995c-4b13-9783-7b6e677f0c73
DTSTAMP:20260422T125941Z
SUMMARY:Johannisbräuche
DESCRIPTION:https://lindau.keb-oberallgaeu.de/ueber-uns/veranstaltungen/joh
 annisbraeuche_id309014
DTSTART;TZID=Europe/Berlin:20260617T190000
LOCATION:Pfarrheim\, Austraße 2\, 88161 Lindenberg im Allgäu
END:VEVENT
END:VCALENDAR
