BEGIN:VCALENDAR
VERSION:2.0
PRODID:-//Sabre//Sabre VObject 4.5.8//EN
CALSCALE:GREGORIAN
BEGIN:VEVENT
UID:sabre-vobject-2a6bd734-d92e-4a7b-b24b-43dc69f269fd
DTSTAMP:20260422T130123Z
SUMMARY:Gedächtnistraining
DESCRIPTION:https://lindau.keb-oberallgaeu.de/ueber-uns/veranstaltungen/ged
 aechtnistraining_id308729
DTSTART;TZID=Europe/Berlin:20260429T170000
LOCATION:Pfarrheim\, Austraße 2\, 88161 Lindenberg im Allgäu
END:VEVENT
END:VCALENDAR
