BEGIN:VCALENDAR
VERSION:2.0
PRODID:-//Sabre//Sabre VObject 4.5.8//EN
CALSCALE:GREGORIAN
BEGIN:VEVENT
UID:sabre-vobject-6b394223-5b87-4597-bdff-f76a7f90e77c
DTSTAMP:20260424T234833Z
SUMMARY:Dekanatsrunde der Altenseelsorge
DESCRIPTION:https://lindau.keb-oberallgaeu.de/ueber-uns/veranstaltungen/dek
 anatsrunde-der-altenseelsorge_id305825
DTSTART;TZID=Europe/Berlin:20261008T140000
LOCATION:Bildungsstätte Haus St. Christophorus\, Conrad-Forster-Straße 60
 \, 88149 Nonnenhorn
END:VEVENT
END:VCALENDAR
