BEGIN:VCALENDAR
VERSION:2.0
PRODID:-//Sabre//Sabre VObject 4.5.8//EN
CALSCALE:GREGORIAN
BEGIN:VEVENT
UID:sabre-vobject-b6ed4b67-093f-4c11-91bc-01990764d137
DTSTAMP:20260424T183829Z
SUMMARY:Senioren Fitness Rund um den Stuhl
DESCRIPTION:https://lindau.keb-oberallgaeu.de/ueber-uns/veranstaltungen/sen
 ioren-fitness-rund-um-den-stuhl_id294029
DTSTART;TZID=Europe/Berlin:20261214T110000
DTEND;TZID=Europe/Berlin:20261214T120000
LOCATION:Pfarrheim Lindenberg\, Austraße 2\, 88161 Lindenberg im Allgäu
END:VEVENT
END:VCALENDAR
