BEGIN:VCALENDAR
VERSION:2.0
PRODID:-//Sabre//Sabre VObject 4.5.8//EN
CALSCALE:GREGORIAN
BEGIN:VEVENT
UID:sabre-vobject-6b557848-4d43-4b4c-852b-140970891e3c
DTSTAMP:20260424T183911Z
SUMMARY:Senioren Fitness Rund um den Stuhl
DESCRIPTION:https://lindau.keb-oberallgaeu.de/ueber-uns/veranstaltungen/sen
 ioren-fitness-rund-um-den-stuhl_id294026
DTSTART;TZID=Europe/Berlin:20261123T110000
DTEND;TZID=Europe/Berlin:20261123T120000
LOCATION:Pfarrheim Lindenberg\, Austraße 2\, 88161 Lindenberg im Allgäu
END:VEVENT
END:VCALENDAR
