BEGIN:VCALENDAR
VERSION:2.0
PRODID:-//Sabre//Sabre VObject 4.5.8//EN
CALSCALE:GREGORIAN
BEGIN:VEVENT
UID:sabre-vobject-b662a063-4b5a-4f2e-a329-d30bed882e24
DTSTAMP:20260424T202029Z
SUMMARY:Senioren Fitness Rund um den Stuhl
DESCRIPTION:https://lindau.keb-oberallgaeu.de/ueber-uns/veranstaltungen/sen
 ioren-fitness-rund-um-den-stuhl_id294025
DTSTART;TZID=Europe/Berlin:20261116T110000
DTEND;TZID=Europe/Berlin:20261116T120000
LOCATION:Pfarrheim Lindenberg\, Austraße 2\, 88161 Lindenberg im Allgäu
END:VEVENT
END:VCALENDAR
