BEGIN:VCALENDAR
VERSION:2.0
PRODID:-//Sabre//Sabre VObject 4.5.8//EN
CALSCALE:GREGORIAN
BEGIN:VEVENT
UID:sabre-vobject-97d4a856-b014-4cca-9cab-c4a2398ce964
DTSTAMP:20260424T234730Z
SUMMARY:Senioren Fitness Rund um den Stuhl
DESCRIPTION:https://lindau.keb-oberallgaeu.de/ueber-uns/veranstaltungen/sen
 ioren-fitness-rund-um-den-stuhl_id294021
DTSTART;TZID=Europe/Berlin:20261019T110000
DTEND;TZID=Europe/Berlin:20261019T120000
LOCATION:Pfarrheim Lindenberg\, Austraße 2\, 88161 Lindenberg im Allgäu
END:VEVENT
END:VCALENDAR
