BEGIN:VCALENDAR
VERSION:2.0
PRODID:-//Sabre//Sabre VObject 4.5.8//EN
CALSCALE:GREGORIAN
BEGIN:VEVENT
UID:sabre-vobject-8b8c0464-e504-4c4f-ba29-3baa2b947a4a
DTSTAMP:20260425T012519Z
SUMMARY:Senioren Fitness Rund um den Stuhl
DESCRIPTION:https://lindau.keb-oberallgaeu.de/ueber-uns/veranstaltungen/sen
 ioren-fitness-rund-um-den-stuhl_id294017
DTSTART;TZID=Europe/Berlin:20260921T110000
DTEND;TZID=Europe/Berlin:20260921T120000
LOCATION:Pfarrheim Lindenberg\, Austraße 2\, 88161 Lindenberg im Allgäu
END:VEVENT
END:VCALENDAR
