BEGIN:VCALENDAR
VERSION:2.0
PRODID:-//Sabre//Sabre VObject 4.5.8//EN
CALSCALE:GREGORIAN
BEGIN:VEVENT
UID:sabre-vobject-1e500b9d-719e-437e-a124-ca9b13ca784d
DTSTAMP:20260424T183911Z
SUMMARY:Senioren Fitness Rund um den Stuhl
DESCRIPTION:https://lindau.keb-oberallgaeu.de/ueber-uns/veranstaltungen/sen
 ioren-fitness-rund-um-den-stuhl_id293980
DTSTART;TZID=Europe/Berlin:20261228T090000
DTEND;TZID=Europe/Berlin:20261228T100000
LOCATION:Pfarrheim Scheidegg\, Pfarrweg 7\, 88175 Scheidegg
END:VEVENT
END:VCALENDAR
