BEGIN:VCALENDAR
VERSION:2.0
PRODID:-//Sabre//Sabre VObject 4.5.8//EN
CALSCALE:GREGORIAN
BEGIN:VEVENT
UID:sabre-vobject-d99e3c82-18c9-4a44-ab0c-296e5ae01c54
DTSTAMP:20260424T190323Z
SUMMARY:Senioren Fitness Rund um den Stuhl
DESCRIPTION:https://lindau.keb-oberallgaeu.de/ueber-uns/veranstaltungen/sen
 ioren-fitness-rund-um-den-stuhl_id293978
DTSTART;TZID=Europe/Berlin:20261214T090000
DTEND;TZID=Europe/Berlin:20261214T100000
LOCATION:Pfarrheim Scheidegg\, Pfarrweg 7\, 88175 Scheidegg
END:VEVENT
END:VCALENDAR
