BEGIN:VCALENDAR
VERSION:2.0
PRODID:-//Sabre//Sabre VObject 4.5.8//EN
CALSCALE:GREGORIAN
BEGIN:VEVENT
UID:sabre-vobject-7127c07e-cbdd-4ad7-8200-90e39414bf9d
DTSTAMP:20260424T220035Z
SUMMARY:Senioren Fitness Rund um den Stuhl
DESCRIPTION:https://lindau.keb-oberallgaeu.de/ueber-uns/veranstaltungen/sen
 ioren-fitness-rund-um-den-stuhl_id293971
DTSTART;TZID=Europe/Berlin:20261026T090000
DTEND;TZID=Europe/Berlin:20261026T100000
LOCATION:Pfarrheim Scheidegg\, Pfarrweg 7\, 88175 Scheidegg
END:VEVENT
END:VCALENDAR
